BEGIN:VCALENDAR
VERSION:2.0
PRODID:-//Hard Light Center of Awakening - ECPv6.15.20//NONSGML v1.0//EN
CALSCALE:GREGORIAN
METHOD:PUBLISH
X-ORIGINAL-URL:https://hardlight.org
X-WR-CALDESC:Events for Hard Light Center of Awakening
REFRESH-INTERVAL;VALUE=DURATION:PT1H
X-Robots-Tag:noindex
X-PUBLISHED-TTL:PT1H
BEGIN:VTIMEZONE
TZID:America/Los_Angeles
BEGIN:DAYLIGHT
TZOFFSETFROM:-0800
TZOFFSETTO:-0700
TZNAME:PDT
DTSTART:20250309T100000
END:DAYLIGHT
BEGIN:STANDARD
TZOFFSETFROM:-0700
TZOFFSETTO:-0800
TZNAME:PST
DTSTART:20251102T090000
END:STANDARD
BEGIN:DAYLIGHT
TZOFFSETFROM:-0800
TZOFFSETTO:-0700
TZNAME:PDT
DTSTART:20260308T100000
END:DAYLIGHT
BEGIN:STANDARD
TZOFFSETFROM:-0700
TZOFFSETTO:-0800
TZNAME:PST
DTSTART:20261101T090000
END:STANDARD
BEGIN:DAYLIGHT
TZOFFSETFROM:-0800
TZOFFSETTO:-0700
TZNAME:PDT
DTSTART:20270314T100000
END:DAYLIGHT
BEGIN:STANDARD
TZOFFSETFROM:-0700
TZOFFSETTO:-0800
TZNAME:PST
DTSTART:20271107T090000
END:STANDARD
END:VTIMEZONE
BEGIN:VEVENT
DTSTART;TZID=America/Los_Angeles:20260212T193000
DTEND;TZID=America/Los_Angeles:20260212T210000
DTSTAMP:20260424T031931
CREATED:20260127T203103Z
LAST-MODIFIED:20260208T023050Z
UID:10000318-1770924600-1770930000@hardlight.org
SUMMARY:02/12/2026 - Weekly Program - Shiva Yoga Part 2.
DESCRIPTION:Join the Hard Light Center of Awakening for our weekly meditation meeting and dharma teaching from 7:30 PM-9:00 PM (PST). This week we will broadcast from Fire Mountain in India for Part 2 of our two-part Shiva Yoga series. The program features Arati\, an archived dharma teaching from Meditation Master Mark Griffin\, and silent meditation. All are welcome to join! \n\n\n\nJoin via VIMEO \n\n\n\nOur weekly meditation meeting is offered on a sliding scale. If this is your first visit\, we welcome you to join us FREE of charge. We encourage returning guests to contribute on a sliding scale of $15-25. All contributions are greatly appreciated as they assist us in running these weekly events. \n\n\n	\n		\n		\n			\n		\n		\n			Weekly Meditation Program\n		\n		\n		\n		\n		The weekly program is held every Thursday from 7:30 – 9:00 PM (PST). The program includes Master Mark Griffin’s archived Dharma teachings and silent meditation practice. All are welcome to join!\n  \nFirst class free\nIn-person or online drop-in: $15-25 \n\n\n\n\n		\n		\n		  \n		\n		\n		\n		Processing ... Join UsStripe Payments requires Javascript to be supported by the browser in order to operate.
URL:https://hardlight.org/event/02-12-2026-weekly-program-shiva-yoga-part-2/
CATEGORIES:Weekly Meeting
ATTACH;FMTTYPE=image/webp:https://hardlight.org/wp-content/uploads/2025/08/shiva-box-vignette-1920x1275-1.webp
END:VEVENT
BEGIN:VEVENT
DTSTART;TZID=America/Los_Angeles:20260215T190000
DTEND;TZID=America/Los_Angeles:20260216T060000
DTSTAMP:20260424T031931
CREATED:20260127T204429Z
LAST-MODIFIED:20260127T211718Z
UID:10000319-1771182000-1771221600@hardlight.org
SUMMARY:02/15/2026 - Mahashivaratri - In-Person Only
DESCRIPTION:Join the Hard Light Center of Awakening for our yearly\, all night meditation in celebration of Mahashivaratri. This year it is an in-person only event at Studio 108. The event will not be live streamed. If you are planning on attending this year\, you can register below. \n\n\n\n \n\n\n\n \n\n\n	\n		\n		\n			\n		\n		\n			Mahashivaratri 2026\n		\n		\n		\n		\n		Celebrate Mahashivaratri with an all-night meditation February 15-16th. This is an in-person event at Studio 108. \n\n		\n		\n		$50.00  \n		\n		\n		\n		Processing ... Buy NowStripe Payments requires Javascript to be supported by the browser in order to operate.
URL:https://hardlight.org/event/02-15-2026-mahashivaratri-in-person-only/
CATEGORIES:Weekly Meeting
ATTACH;FMTTYPE=image/webp:https://hardlight.org/wp-content/uploads/2025/08/puja-table-lingam-4288x2848-1.webp
END:VEVENT
BEGIN:VEVENT
DTSTART;TZID=America/Los_Angeles:20260219T193000
DTEND;TZID=America/Los_Angeles:20260219T210000
DTSTAMP:20260424T031931
CREATED:20260127T212416Z
LAST-MODIFIED:20260208T023145Z
UID:10000320-1771529400-1771534800@hardlight.org
SUMMARY:02/19/2026 - Weekly Program - Nityananda Palki
DESCRIPTION:Join the Hard Light Center of Awakening for our weekly meditation meeting and dharma teaching from 7:30 PM-9:00 PM (PST). This week we will broadcast a prerecorded Nityananda Palki from Fire Mountain in India. All are welcome to join! \n\n\n\nJoin via VIMEO \n\n\n\nOur weekly meditation meeting is offered on a sliding scale. If this is your first visit\, we welcome you to join us FREE of charge. We encourage returning guests to contribute on a sliding scale of $15-25. All contributions are greatly appreciated as they assist us in running these weekly events. \n\n\n	\n		\n		\n			\n		\n		\n			Weekly Meditation Program\n		\n		\n		\n		\n		The weekly program is held every Thursday from 7:30 – 9:00 PM (PST). The program includes Master Mark Griffin’s archived Dharma teachings and silent meditation practice. All are welcome to join!\n  \nFirst class free\nIn-person or online drop-in: $15-25 \n\n\n\n\n		\n		\n		  \n		\n		\n		\n		Processing ... Join UsStripe Payments requires Javascript to be supported by the browser in order to operate.
URL:https://hardlight.org/event/02-19-2026-weekly-program-nityananda-palki/
CATEGORIES:Weekly Meeting
ATTACH;FMTTYPE=image/webp:https://hardlight.org/wp-content/uploads/2025/03/mark-babbas-puja-table-india-1920x1280-1.webp
END:VEVENT
BEGIN:VEVENT
DTSTART;TZID=America/Los_Angeles:20260226T193000
DTEND;TZID=America/Los_Angeles:20260226T210000
DTSTAMP:20260424T031931
CREATED:20260127T213056Z
LAST-MODIFIED:20260225T070407Z
UID:10000321-1772134200-1772139600@hardlight.org
SUMMARY:02/26/2026 - Weekly Program - Kali and the Guru
DESCRIPTION:Join the Hard Light Center of Awakening for our weekly meditation meeting and dharma teaching from 7:30 PM-9:00 PM (PST). This week we will broadcast from Fire Mountain in India for Mark Griffin’s teaching on Kali and the Guru. The program features Arati\, an archived dharma teaching from Meditation Master Mark Griffin\, and silent meditation. All are welcome to join! \n\n\n\nJoin via VIMEO \n\n\n\nOur weekly meditation meeting is offered on a sliding scale. If this is your first visit\, we welcome you to join us FREE of charge. We encourage returning guests to contribute on a sliding scale of $15-25. All contributions are greatly appreciated as they assist us in running these weekly events. \n\n\n	\n		\n		\n			\n		\n		\n			Weekly Meditation Program\n		\n		\n		\n		\n		The weekly program is held every Thursday from 7:30 – 9:00 PM (PST). The program includes Master Mark Griffin’s archived Dharma teachings and silent meditation practice. All are welcome to join!\n  \nFirst class free\nIn-person or online drop-in: $15-25 \n\n\n\n\n		\n		\n		  \n		\n		\n		\n		Processing ... Join UsStripe Payments requires Javascript to be supported by the browser in order to operate.
URL:https://hardlight.org/event/02-26-2026-weekly-program-kali-and-the-guru/
CATEGORIES:Weekly Meeting
ATTACH;FMTTYPE=image/webp:https://hardlight.org/wp-content/uploads/2025/08/14520653031_0891102076_k.webp
END:VEVENT
BEGIN:VEVENT
DTSTART;TZID=America/Los_Angeles:20260305T193000
DTEND;TZID=America/Los_Angeles:20260305T210000
DTSTAMP:20260424T031931
CREATED:20260305T181706Z
LAST-MODIFIED:20260305T183744Z
UID:10000323-1772739000-1772744400@hardlight.org
SUMMARY:03/05/2026 - Weekly Program
DESCRIPTION:Join the Hard Light Center of Awakening for our weekly meditation meeting and dharma teaching from 7:30 PM-9:00 PM (PST).  The program features Arati\, an archived dharma teaching from Meditation Master Mark Griffin\, and silent meditation. All are welcome to join! \n\n\n\nJoin via VIMEO \n\n\n\nOur weekly meditation meeting is offered on a sliding scale. If this is your first visit\, we welcome you to join us FREE of charge. We encourage returning guests to contribute on a sliding scale of $15-25. All contributions are greatly appreciated as they assist us in running these weekly events. \n\n\n	\n		\n		\n			\n		\n		\n			Weekly Meditation Program\n		\n		\n		\n		\n		The weekly program is held every Thursday from 7:30 – 9:00 PM (PST). The program includes Master Mark Griffin’s archived Dharma teachings and silent meditation practice. All are welcome to join!\n  \nFirst class free\nIn-person or online drop-in: $15-25 \n\n\n\n\n		\n		\n		  \n		\n		\n		\n		Processing ... Join UsStripe Payments requires Javascript to be supported by the browser in order to operate.
URL:https://hardlight.org/event/03-05-2026-weekly-program/
CATEGORIES:Weekly Meeting
ATTACH;FMTTYPE=image/webp:https://hardlight.org/wp-content/uploads/2025/09/Guru-Grif-Glasses-Nimboli.webp
END:VEVENT
BEGIN:VEVENT
DTSTART;TZID=America/Los_Angeles:20260312T193000
DTEND;TZID=America/Los_Angeles:20260312T210000
DTSTAMP:20260424T031931
CREATED:20260305T182936Z
LAST-MODIFIED:20260305T183132Z
UID:10000324-1773343800-1773349200@hardlight.org
SUMMARY:03/12/2026 - Weekly Program
DESCRIPTION:Join the Hard Light Center of Awakening for our weekly meditation meeting and dharma teaching from 7:30 PM-9:00 PM (PST).  The program features Arati\, an archived dharma teaching from Meditation Master Mark Griffin\, and silent meditation. All are welcome to join! \n\n\n\nJoin via VIMEO \n\n\n\nOur weekly meditation meeting is offered on a sliding scale. If this is your first visit\, we welcome you to join us FREE of charge. We encourage returning guests to contribute on a sliding scale of $15-25. All contributions are greatly appreciated as they assist us in running these weekly events. \n\n\n	\n		\n		\n			\n		\n		\n			Weekly Meditation Program\n		\n		\n		\n		\n		The weekly program is held every Thursday from 7:30 – 9:00 PM (PST). The program includes Master Mark Griffin’s archived Dharma teachings and silent meditation practice. All are welcome to join!\n  \nFirst class free\nIn-person or online drop-in: $15-25 \n\n\n\n\n		\n		\n		  \n		\n		\n		\n		Processing ... Join UsStripe Payments requires Javascript to be supported by the browser in order to operate.
URL:https://hardlight.org/event/03-12-2026-weekly-program/
CATEGORIES:Weekly Meeting
ATTACH;FMTTYPE=image/webp:https://hardlight.org/wp-content/uploads/2025/09/Guru-Grif-Glasses-Nimboli.webp
END:VEVENT
BEGIN:VEVENT
DTSTART;TZID=America/Los_Angeles:20260319T193000
DTEND;TZID=America/Los_Angeles:20260319T210000
DTSTAMP:20260424T031931
CREATED:20260305T184320Z
LAST-MODIFIED:20260317T002615Z
UID:10000325-1773948600-1773954000@hardlight.org
SUMMARY:03/19/2026 - Weekly Program
DESCRIPTION:Join the Hard Light Center of Awakening for our weekly meditation meeting and dharma teaching from 7:30 PM-9:00 PM (PST). The program features Arati\, an archived dharma teaching from Meditation Master Mark Griffin\, and silent meditation. The session before the Intensive invokes the Clearing of Obstacles transmission. All are welcome to join! \n\n\n\nJoin via VIMEO STREAM LINK \n\n\n\nOur weekly meditation meeting is offered on a sliding scale. If this is your first visit\, we welcome you to join us FREE of charge. We encourage returning guests to contribute on a sliding scale of $15-25. All contributions are greatly appreciated as they assist us in running these weekly events. \n\n\n	\n		\n		\n			\n		\n		\n			Weekly Meditation Program\n		\n		\n		\n		\n		The weekly program is held every Thursday from 7:30 – 9:00 PM (PST). The program includes Master Mark Griffin’s archived Dharma teachings and silent meditation practice. All are welcome to join!\n  \nFirst class free\nIn-person or online drop-in: $15-25 \n\n\n\n\n		\n		\n		  \n		\n		\n		\n		Processing ... Join UsStripe Payments requires Javascript to be supported by the browser in order to operate.
URL:https://hardlight.org/event/03-19-2026-weekly-program/
CATEGORIES:Weekly Meeting
ATTACH;FMTTYPE=image/webp:https://hardlight.org/wp-content/uploads/2025/09/Guru-Grif-Glasses-Nimboli.webp
END:VEVENT
BEGIN:VEVENT
DTSTART;TZID=America/Los_Angeles:20260326T193000
DTEND;TZID=America/Los_Angeles:20260326T210000
DTSTAMP:20260424T031931
CREATED:20260305T184617Z
LAST-MODIFIED:20260317T003044Z
UID:10000326-1774553400-1774558800@hardlight.org
SUMMARY:03/26/2026 - Weekly Program
DESCRIPTION:Join the Hard Light Center of Awakening for our weekly meditation meeting and dharma teaching from 7:30 PM-9:00 PM (PST). The program features Arati\, an archived dharma teaching from Meditation Master Mark Griffin\, and silent meditation. All are welcome to join! \n\n\n\nJoin via VIMEO STREAM LINK \n\n\n\nOur weekly meditation meeting is offered on a sliding scale. If this is your first visit\, we welcome you to join us FREE of charge. We encourage returning guests to contribute on a sliding scale of $15-25. All contributions are greatly appreciated as they assist us in running these weekly events. \n\n\n	\n		\n		\n			\n		\n		\n			Weekly Meditation Program\n		\n		\n		\n		\n		The weekly program is held every Thursday from 7:30 – 9:00 PM (PST). The program includes Master Mark Griffin’s archived Dharma teachings and silent meditation practice. All are welcome to join!\n  \nFirst class free\nIn-person or online drop-in: $15-25 \n\n\n\n\n		\n		\n		  \n		\n		\n		\n		Processing ... Join UsStripe Payments requires Javascript to be supported by the browser in order to operate.
URL:https://hardlight.org/event/03-26-2026-weekly-program/
CATEGORIES:Weekly Meeting
ATTACH;FMTTYPE=image/webp:https://hardlight.org/wp-content/uploads/2025/09/Guru-Grif-Glasses-Nimboli.webp
END:VEVENT
BEGIN:VEVENT
DTSTART;TZID=America/Los_Angeles:20260402T193000
DTEND;TZID=America/Los_Angeles:20260402T210000
DTSTAMP:20260424T031931
CREATED:20260331T021304Z
LAST-MODIFIED:20260331T022840Z
UID:10000328-1775158200-1775163600@hardlight.org
SUMMARY:04/02/2026 - Weekly Program
DESCRIPTION:Join the Hard Light Center of Awakening for our weekly meditation meeting and dharma teaching from 7:30 PM-9:00 PM (PST). The program features Arati\, an archived dharma teaching from Meditation Master Mark Griffin\, and silent meditation. All are welcome to join! \n\n\n\nJoin via VIMEO STREAM LINK \n\n\n\nOur weekly meditation meeting is offered on a sliding scale. If this is your first visit\, we welcome you to join us FREE of charge. We encourage returning guests to contribute on a sliding scale of $15-25. All contributions are greatly appreciated as they assist us in running these weekly events. \n\n\n	\n		\n		\n			\n		\n		\n			Weekly Meditation Program\n		\n		\n		\n		\n		The weekly program is held every Thursday from 7:30 – 9:00 PM (PST). The program includes Master Mark Griffin’s archived Dharma teachings and silent meditation practice. All are welcome to join!\n  \nFirst class free\nIn-person or online drop-in: $15-25 \n\n\n\n\n		\n		\n		  \n		\n		\n		\n		Processing ... Join UsStripe Payments requires Javascript to be supported by the browser in order to operate.
URL:https://hardlight.org/event/04-02-2026-weekly-program/
CATEGORIES:Weekly Meeting
ATTACH;FMTTYPE=image/webp:https://hardlight.org/wp-content/uploads/2025/03/puja-table-mark-coconut-baba-1280x800-1.webp
END:VEVENT
BEGIN:VEVENT
DTSTART;TZID=America/Los_Angeles:20260409T193000
DTEND;TZID=America/Los_Angeles:20260409T210000
DTSTAMP:20260424T031931
CREATED:20260331T021549Z
LAST-MODIFIED:20260331T021550Z
UID:10000329-1775763000-1775768400@hardlight.org
SUMMARY:04/09/2026 - Weekly Program
DESCRIPTION:Join the Hard Light Center of Awakening for our weekly meditation meeting and dharma teaching from 7:30 PM-9:00 PM (PST). The program features Arati\, an archived dharma teaching from Meditation Master Mark Griffin\, and silent meditation. All are welcome to join! \n\n\n\nJoin via VIMEO STREAM LINK \n\n\n\nOur weekly meditation meeting is offered on a sliding scale. If this is your first visit\, we welcome you to join us FREE of charge. We encourage returning guests to contribute on a sliding scale of $15-25. All contributions are greatly appreciated as they assist us in running these weekly events. \n\n\n	\n		\n		\n			\n		\n		\n			Weekly Meditation Program\n		\n		\n		\n		\n		The weekly program is held every Thursday from 7:30 – 9:00 PM (PST). The program includes Master Mark Griffin’s archived Dharma teachings and silent meditation practice. All are welcome to join!\n  \nFirst class free\nIn-person or online drop-in: $15-25 \n\n\n\n\n		\n		\n		  \n		\n		\n		\n		Processing ... Join UsStripe Payments requires Javascript to be supported by the browser in order to operate.
URL:https://hardlight.org/event/04-09-2026-weekly-program/
CATEGORIES:Weekly Meeting
ATTACH;FMTTYPE=image/jpeg:https://hardlight.org/wp-content/uploads/2022/03/Universe-Guru.jpg
END:VEVENT
BEGIN:VEVENT
DTSTART;TZID=America/Los_Angeles:20260416T193000
DTEND;TZID=America/Los_Angeles:20260416T210000
DTSTAMP:20260424T031931
CREATED:20260331T021735Z
LAST-MODIFIED:20260331T022305Z
UID:10000330-1776367800-1776373200@hardlight.org
SUMMARY:04/16/2026 - Weekly Program
DESCRIPTION:Join the Hard Light Center of Awakening for our weekly meditation meeting and dharma teaching from 7:30 PM-9:00 PM (PST). The program features Arati\, an archived dharma teaching from Meditation Master Mark Griffin\, and silent meditation. All are welcome to join! \n\n\n\nJoin via VIMEO STREAM LINK \n\n\n\nOur weekly meditation meeting is offered on a sliding scale. If this is your first visit\, we welcome you to join us FREE of charge. We encourage returning guests to contribute on a sliding scale of $15-25. All contributions are greatly appreciated as they assist us in running these weekly events. \n\n\n	\n		\n		\n			\n		\n		\n			Weekly Meditation Program\n		\n		\n		\n		\n		The weekly program is held every Thursday from 7:30 – 9:00 PM (PST). The program includes Master Mark Griffin’s archived Dharma teachings and silent meditation practice. All are welcome to join!\n  \nFirst class free\nIn-person or online drop-in: $15-25 \n\n\n\n\n		\n		\n		  \n		\n		\n		\n		Processing ... Join UsStripe Payments requires Javascript to be supported by the browser in order to operate.
URL:https://hardlight.org/event/04-16-2026-weekly-program/
CATEGORIES:Weekly Meeting
ATTACH;FMTTYPE=image/jpeg:https://hardlight.org/wp-content/uploads/2023/05/Guru-Puja.jpg
END:VEVENT
BEGIN:VEVENT
DTSTART;TZID=America/Los_Angeles:20260423T193000
DTEND;TZID=America/Los_Angeles:20260423T210000
DTSTAMP:20260424T031931
CREATED:20260331T021913Z
LAST-MODIFIED:20260414T221155Z
UID:10000331-1776972600-1776978000@hardlight.org
SUMMARY:04/23/2026 - Weekly Program
DESCRIPTION:Join the Hard Light Center of Awakening for our weekly meditation meeting and dharma teaching from 7:30 PM-9:00 PM (PST). The program features Arati\, an archived dharma teaching from Meditation Master Mark Griffin\, and silent meditation. All are welcome to join! \n\n\n\nJoin via VIMEO STREAM LINK \n\n\n\nOur weekly meditation meeting is offered on a sliding scale. If this is your first visit\, we welcome you to join us FREE of charge. We encourage returning guests to contribute on a sliding scale of $15-25. All contributions are greatly appreciated as they assist us in running these weekly events. \n\n\n	\n		\n		\n			\n		\n		\n			Weekly Meditation Program\n		\n		\n		\n		\n		The weekly program is held every Thursday from 7:30 – 9:00 PM (PST). The program includes Master Mark Griffin’s archived Dharma teachings and silent meditation practice. All are welcome to join!\n  \nFirst class free\nIn-person or online drop-in: $15-25 \n\n\n\n\n		\n		\n		  \n		\n		\n		\n		Processing ... Join UsStripe Payments requires Javascript to be supported by the browser in order to operate.
URL:https://hardlight.org/event/04-23-2026-weekly-program/
CATEGORIES:Weekly Meeting
ATTACH;FMTTYPE=image/jpeg:https://hardlight.org/wp-content/uploads/2025/09/Guru-Grif-Glasses-Nimboli.jpg
END:VEVENT
END:VCALENDAR