BEGIN:VCALENDAR
VERSION:2.0
PRODID:-//Hard Light Center of Awakening - ECPv6.15.20//NONSGML v1.0//EN
CALSCALE:GREGORIAN
METHOD:PUBLISH
X-ORIGINAL-URL:https://hardlight.org
X-WR-CALDESC:Events for Hard Light Center of Awakening
REFRESH-INTERVAL;VALUE=DURATION:PT1H
X-Robots-Tag:noindex
X-PUBLISHED-TTL:PT1H
BEGIN:VTIMEZONE
TZID:America/Los_Angeles
BEGIN:DAYLIGHT
TZOFFSETFROM:-0800
TZOFFSETTO:-0700
TZNAME:PDT
DTSTART:20240310T100000
END:DAYLIGHT
BEGIN:STANDARD
TZOFFSETFROM:-0700
TZOFFSETTO:-0800
TZNAME:PST
DTSTART:20241103T090000
END:STANDARD
BEGIN:DAYLIGHT
TZOFFSETFROM:-0800
TZOFFSETTO:-0700
TZNAME:PDT
DTSTART:20250309T100000
END:DAYLIGHT
BEGIN:STANDARD
TZOFFSETFROM:-0700
TZOFFSETTO:-0800
TZNAME:PST
DTSTART:20251102T090000
END:STANDARD
BEGIN:DAYLIGHT
TZOFFSETFROM:-0800
TZOFFSETTO:-0700
TZNAME:PDT
DTSTART:20260308T100000
END:DAYLIGHT
BEGIN:STANDARD
TZOFFSETFROM:-0700
TZOFFSETTO:-0800
TZNAME:PST
DTSTART:20261101T090000
END:STANDARD
END:VTIMEZONE
BEGIN:VEVENT
DTSTART;TZID=America/Los_Angeles:20251204T193000
DTEND;TZID=America/Los_Angeles:20251204T210000
DTSTAMP:20260423T155408
CREATED:20251124T233552Z
LAST-MODIFIED:20251125T184616Z
UID:10000314-1764876600-1764882000@hardlight.org
SUMMARY:12/04/2025 - Weekly Program
DESCRIPTION:Join the Hard Light Center of Awakening for our weekly meditation meeting and dharma teaching from 7:30 PM-9:00 PM (PST). The program features Arati\, an archived dharma teaching from Meditation Master Mark Griffin\, and silent meditation. All are welcome to join! \n\n\n\nJoin via VIMEO \n\n\n\nOur weekly meditation meeting is offered on a sliding scale. If this is your first visit\, we welcome you to join us FREE of charge. We encourage returning guests to contribute on a sliding scale of $15-25. All contributions are greatly appreciated as they assist us in running these weekly events. \n\n\n	\n		\n		\n			\n		\n		\n			Weekly Meditation Program\n		\n		\n		\n		\n		The weekly program is held every Thursday from 7:30 – 9:00 PM (PST). The program includes Master Mark Griffin’s archived Dharma teachings and silent meditation practice. All are welcome to join!\n  \nFirst class free\nIn-person or online drop-in: $15-25 \n\n\n\n\n		\n		\n		  \n		\n		\n		\n		Processing ... Join UsStripe Payments requires Javascript to be supported by the browser in order to operate.
URL:https://hardlight.org/event/12-04-2025-weekly-program/
CATEGORIES:Weekly Meeting
ATTACH;FMTTYPE=image/webp:https://hardlight.org/wp-content/uploads/2025/08/14520653031_0891102076_k.webp
END:VEVENT
BEGIN:VEVENT
DTSTART;TZID=America/Los_Angeles:20251206T120000
DTEND;TZID=America/Los_Angeles:20251206T200000
DTSTAMP:20260423T155408
CREATED:20250315T014623Z
LAST-MODIFIED:20251105T002640Z
UID:10000298-1765022400-1765051200@hardlight.org
SUMMARY:12/06/2025 - The Completion Intensive
DESCRIPTION:During the December Intensive\, we invoke the energy of completion for the year’s study and transmissions. It is a powerful way to resolve the energy of  our 2025 practice. We align with the energy and transmission of Samadhi and Shaktipat\, the descent of grace. The Intensive is the program wherein the Shaktipat transmission that flows from the Grace of the Siddha Lineage becomes available to any and all who seek the Path of Awakening. \n\n\n\nThe Completion IntensiveSaturday\, December 6th\, 202512:00 – 8:00 PM (PST)In Person and Online: Cost: $108 – 200 \n\n\n	\n		\n		\n			\n		\n		\n			Meditation Intensive\n		\n		\n		\n		\n		Event Cost: \n$75 (Streaming)\n$108 (Senior / Student)\n$150 (Standard)\n$200 (Benefactor) \n\n		\n		\n		  \n		\n		\n		\n		Processing ... Join UsStripe Payments requires Javascript to be supported by the browser in order to operate.
URL:https://hardlight.org/event/12-06-2025-the-completion-intensive/
LOCATION:Hard Light Studio 108\, 2360 Eastman\, Suite 108\, Oxnard\, CA\, 93030\, United States
CATEGORIES:Intensives
ATTACH;FMTTYPE=image/webp:https://hardlight.org/wp-content/uploads/2025/03/mark-babbas-puja-table-india-1920x1280-1.webp
END:VEVENT
BEGIN:VEVENT
DTSTART;TZID=America/Los_Angeles:20251211T193000
DTEND;TZID=America/Los_Angeles:20251211T210000
DTSTAMP:20260423T155408
CREATED:20251125T182646Z
LAST-MODIFIED:20251125T184453Z
UID:10000315-1765481400-1765486800@hardlight.org
SUMMARY:12/11/2025 - Weekly Program
DESCRIPTION:Join the Hard Light Center of Awakening for our weekly meditation meeting and dharma teaching from 7:30 PM-9:00 PM (PST). The program features Arati\, an archived dharma teaching from Meditation Master Mark Griffin\, and silent meditation. All are welcome to join! \n\n\n\nJoin via VIMEO \n\n\n\nOur weekly meditation meeting is offered on a sliding scale. If this is your first visit\, we welcome you to join us FREE of charge. We encourage returning guests to contribute on a sliding scale of $15-25. All contributions are greatly appreciated as they assist us in running these weekly events. \n\n\n	\n		\n		\n			\n		\n		\n			Weekly Meditation Program\n		\n		\n		\n		\n		The weekly program is held every Thursday from 7:30 – 9:00 PM (PST). The program includes Master Mark Griffin’s archived Dharma teachings and silent meditation practice. All are welcome to join!\n  \nFirst class free\nIn-person or online drop-in: $15-25 \n\n\n\n\n		\n		\n		  \n		\n		\n		\n		Processing ... Join UsStripe Payments requires Javascript to be supported by the browser in order to operate.
URL:https://hardlight.org/event/12-11-2025-weekly-program/
CATEGORIES:Weekly Meeting
ATTACH;FMTTYPE=image/png:https://hardlight.org/wp-content/uploads/2020/10/mark-statues-prayer-1920x1280-1.png
END:VEVENT
BEGIN:VEVENT
DTSTART;TZID=America/Los_Angeles:20251218T193000
DTEND;TZID=America/Los_Angeles:20251218T210000
DTSTAMP:20260423T155408
CREATED:20251125T184019Z
LAST-MODIFIED:20251125T184529Z
UID:10000316-1766086200-1766091600@hardlight.org
SUMMARY:12/18/2025 - Weekly Program
DESCRIPTION:Join the Hard Light Center of Awakening for our weekly meditation meeting and dharma teaching from 7:30 PM-9:00 PM (PST). The program features Arati\, an archived dharma teaching from Meditation Master Mark Griffin\, and silent meditation. All are welcome to join! \n\n\n\nJoin via VIMEO \n\n\n\nOur weekly meditation meeting is offered on a sliding scale. If this is your first visit\, we welcome you to join us FREE of charge. We encourage returning guests to contribute on a sliding scale of $15-25. All contributions are greatly appreciated as they assist us in running these weekly events. \n\n\n	\n		\n		\n			\n		\n		\n			Weekly Meditation Program\n		\n		\n		\n		\n		The weekly program is held every Thursday from 7:30 – 9:00 PM (PST). The program includes Master Mark Griffin’s archived Dharma teachings and silent meditation practice. All are welcome to join!\n  \nFirst class free\nIn-person or online drop-in: $15-25 \n\n\n\n\n		\n		\n		  \n		\n		\n		\n		Processing ... Join UsStripe Payments requires Javascript to be supported by the browser in order to operate.
URL:https://hardlight.org/event/12-18-2025-weekly-program/
CATEGORIES:Weekly Meeting
ATTACH;FMTTYPE=image/png:https://hardlight.org/wp-content/uploads/2020/10/mark-the-fabulous-mr-head-1920x1280-1.png
END:VEVENT
BEGIN:VEVENT
DTSTART;TZID=America/Los_Angeles:20251231T130000
DTEND;TZID=America/Los_Angeles:20251231T210000
DTSTAMP:20260423T155408
CREATED:20251101T210154Z
LAST-MODIFIED:20251105T170511Z
UID:10000311-1767186000-1767214800@hardlight.org
SUMMARY:12/31/2025 - The New Year Retreat
DESCRIPTION:The New Year’s Retreat 2026New Year’s Eve Celebration 12/31/20251:00 PM – 9:00 PMNew Year’s Day 2026 Celebration9:00 AM – 4:00 PMPricingIn-Person: $275Online/Streaming: $150 \n\n\n\n	\n		\n		\n			\n		\n		\n			New Year's Meditation Retreat\n		\n		\n		\n		\n		In-person: $275\nOnline: $150\n\n		\n		\n		  \n		\n		\n		\n		Processing ... Join UsStripe Payments requires Javascript to be supported by the browser in order to operate.
URL:https://hardlight.org/event/12-31-2025-the-new-year-retreat/
LOCATION:Hard Light Studio 108\, 2360 Eastman\, Suite 108\, Oxnard\, CA\, 93030\, United States
CATEGORIES:Retreats
ATTACH;FMTTYPE=image/webp:https://hardlight.org/wp-content/uploads/2025/10/6615035307_b5935634ed_c.webp
END:VEVENT
END:VCALENDAR