BEGIN:VCALENDAR
VERSION:2.0
PRODID:-//Hard Light Center of Awakening - ECPv6.15.20//NONSGML v1.0//EN
CALSCALE:GREGORIAN
METHOD:PUBLISH
X-ORIGINAL-URL:https://hardlight.org
X-WR-CALDESC:Events for Hard Light Center of Awakening
REFRESH-INTERVAL;VALUE=DURATION:PT1H
X-Robots-Tag:noindex
X-PUBLISHED-TTL:PT1H
BEGIN:VTIMEZONE
TZID:America/Los_Angeles
BEGIN:DAYLIGHT
TZOFFSETFROM:-0800
TZOFFSETTO:-0700
TZNAME:PDT
DTSTART:20240310T100000
END:DAYLIGHT
BEGIN:STANDARD
TZOFFSETFROM:-0700
TZOFFSETTO:-0800
TZNAME:PST
DTSTART:20241103T090000
END:STANDARD
BEGIN:DAYLIGHT
TZOFFSETFROM:-0800
TZOFFSETTO:-0700
TZNAME:PDT
DTSTART:20250309T100000
END:DAYLIGHT
BEGIN:STANDARD
TZOFFSETFROM:-0700
TZOFFSETTO:-0800
TZNAME:PST
DTSTART:20251102T090000
END:STANDARD
BEGIN:DAYLIGHT
TZOFFSETFROM:-0800
TZOFFSETTO:-0700
TZNAME:PDT
DTSTART:20260308T100000
END:DAYLIGHT
BEGIN:STANDARD
TZOFFSETFROM:-0700
TZOFFSETTO:-0800
TZNAME:PST
DTSTART:20261101T090000
END:STANDARD
BEGIN:DAYLIGHT
TZOFFSETFROM:-0800
TZOFFSETTO:-0700
TZNAME:PDT
DTSTART:20270314T100000
END:DAYLIGHT
BEGIN:STANDARD
TZOFFSETFROM:-0700
TZOFFSETTO:-0800
TZNAME:PST
DTSTART:20271107T090000
END:STANDARD
END:VTIMEZONE
BEGIN:VEVENT
DTSTART;TZID=America/Los_Angeles:20260321T120000
DTEND;TZID=America/Los_Angeles:20260321T200000
DTSTAMP:20260423T100730
CREATED:20260225T213807Z
LAST-MODIFIED:20260317T024636Z
UID:10000322-1774094400-1774123200@hardlight.org
SUMMARY:03/21/2026 - The Spring Equinox Intensive
DESCRIPTION:The Spring Intensive is the Hard Light Center’s first Shaktipat program of 2026. During the Intensive\, we invoke the energy of the awakened Kundalini and align with the transmission of Samadhi and Shaktipat\, the descent of grace. The Intensive is the program wherein the Shaktipat transmission that flows from the Grace of the Siddha Lineage becomes available to any and all who seek the Path of Awakening. \n\n\n\nThe Spring Equinox IntensiveSaturday\, March 21st\, 202612:00 – 8:00 PM (PDT)In Person and Online: Cost: $108 – 200 \n\n\n	\n		\n		\n			\n		\n		\n			Meditation Intensive\n		\n		\n		\n		\n		Event Cost: \n$75 (Streaming)\n$108 (Senior / Student)\n$150 (Standard)\n$200 (Benefactor) \n\n		\n		\n		  \n		\n		\n		\n		Processing ... Join UsStripe Payments requires Javascript to be supported by the browser in order to operate.
URL:https://hardlight.org/event/03-21-2026-the-spring-equinox-intensive/
LOCATION:Hard Light Studio 108\, 2360 Eastman\, Suite 108\, Oxnard\, CA\, 93030\, United States
CATEGORIES:Intensives
ATTACH;FMTTYPE=image/png:https://hardlight.org/wp-content/uploads/2025/08/mark-griffin-smiling-orange-scarf-color-correct.png
END:VEVENT
BEGIN:VEVENT
DTSTART;TZID=America/Los_Angeles:20251231T130000
DTEND;TZID=America/Los_Angeles:20251231T210000
DTSTAMP:20260423T100730
CREATED:20251101T210154Z
LAST-MODIFIED:20251105T170511Z
UID:10000311-1767186000-1767214800@hardlight.org
SUMMARY:12/31/2025 - The New Year Retreat
DESCRIPTION:The New Year’s Retreat 2026New Year’s Eve Celebration 12/31/20251:00 PM – 9:00 PMNew Year’s Day 2026 Celebration9:00 AM – 4:00 PMPricingIn-Person: $275Online/Streaming: $150 \n\n\n\n	\n		\n		\n			\n		\n		\n			New Year's Meditation Retreat\n		\n		\n		\n		\n		In-person: $275\nOnline: $150\n\n		\n		\n		  \n		\n		\n		\n		Processing ... Join UsStripe Payments requires Javascript to be supported by the browser in order to operate.
URL:https://hardlight.org/event/12-31-2025-the-new-year-retreat/
LOCATION:Hard Light Studio 108\, 2360 Eastman\, Suite 108\, Oxnard\, CA\, 93030\, United States
CATEGORIES:Retreats
ATTACH;FMTTYPE=image/webp:https://hardlight.org/wp-content/uploads/2025/10/6615035307_b5935634ed_c.webp
END:VEVENT
BEGIN:VEVENT
DTSTART;TZID=America/Los_Angeles:20251206T120000
DTEND;TZID=America/Los_Angeles:20251206T200000
DTSTAMP:20260423T100730
CREATED:20250315T014623Z
LAST-MODIFIED:20251105T002640Z
UID:10000298-1765022400-1765051200@hardlight.org
SUMMARY:12/06/2025 - The Completion Intensive
DESCRIPTION:During the December Intensive\, we invoke the energy of completion for the year’s study and transmissions. It is a powerful way to resolve the energy of  our 2025 practice. We align with the energy and transmission of Samadhi and Shaktipat\, the descent of grace. The Intensive is the program wherein the Shaktipat transmission that flows from the Grace of the Siddha Lineage becomes available to any and all who seek the Path of Awakening. \n\n\n\nThe Completion IntensiveSaturday\, December 6th\, 202512:00 – 8:00 PM (PST)In Person and Online: Cost: $108 – 200 \n\n\n	\n		\n		\n			\n		\n		\n			Meditation Intensive\n		\n		\n		\n		\n		Event Cost: \n$75 (Streaming)\n$108 (Senior / Student)\n$150 (Standard)\n$200 (Benefactor) \n\n		\n		\n		  \n		\n		\n		\n		Processing ... Join UsStripe Payments requires Javascript to be supported by the browser in order to operate.
URL:https://hardlight.org/event/12-06-2025-the-completion-intensive/
LOCATION:Hard Light Studio 108\, 2360 Eastman\, Suite 108\, Oxnard\, CA\, 93030\, United States
CATEGORIES:Intensives
ATTACH;FMTTYPE=image/webp:https://hardlight.org/wp-content/uploads/2025/03/mark-babbas-puja-table-india-1920x1280-1.webp
END:VEVENT
BEGIN:VEVENT
DTSTART;TZID=America/Los_Angeles:20251023T193000
DTEND;TZID=America/Los_Angeles:20251023T210000
DTSTAMP:20260423T100730
CREATED:20250919T202315Z
LAST-MODIFIED:20250919T202629Z
UID:10000307-1761247800-1761253200@hardlight.org
SUMMARY:10/23/2025 - Weekly Program
DESCRIPTION:This will be a special program in commemoration of the 7th anniversary of Master Mark Griffin’s Mahasamadhi. \n\n\n\nJoin via VIMEO \n\n\n	\n		\n		\n			\n		\n		\n			Weekly Meditation Program\n		\n		\n		\n		\n		The weekly program is held every Thursday from 7:30 – 9:00 PM (PST). The program includes Master Mark Griffin’s archived Dharma teachings and silent meditation practice. All are welcome to join!\n  \nFirst class free\nIn-person or online drop-in: $15-25 \n\n\n\n\n		\n		\n		  \n		\n		\n		\n		Processing ... Join UsStripe Payments requires Javascript to be supported by the browser in order to operate.
URL:https://hardlight.org/event/this-will-be-a-special-program-in-commemoration-of-the-7th-anniversary-of-master-mark-griffins-mahasamadhi/
LOCATION:Hard Light Studio 108\, 2360 Eastman\, Suite 108\, Oxnard\, CA\, 93030\, United States
CATEGORIES:Weekly Meeting
ATTACH;FMTTYPE=image/jpeg:https://hardlight.org/wp-content/uploads/2025/09/20201031_105129.jpg
ORGANIZER;CN="Hard Light Center of Awakening":MAILTO:lightinfo@hardlight.org
END:VEVENT
BEGIN:VEVENT
DTSTART;TZID=America/Los_Angeles:20251018T120000
DTEND;TZID=America/Los_Angeles:20251018T200000
DTSTAMP:20260423T100730
CREATED:20250315T013728Z
LAST-MODIFIED:20250903T230505Z
UID:10000299-1760788800-1760817600@hardlight.org
SUMMARY:10/18/2025 - Mahasamadhi Intensive
DESCRIPTION:During the October Intensive\, we honor Lineage Master Swami Muktananda and Guru Mark Griffin on the occasion of their Mahasamadhi anniversaries. This event is a profound celebration of Guru Yoga and the Path of the Siddhas. We align with the energy and transmission of Samadhi and Shaktipat\, the descent of grace. The Intensive is the program wherein the Shaktipat transmission that flows from the Grace of the Siddha Lineage becomes available to any and all who seek the Path of Awakening. \nThe Mahasamadhi Intensive \nSaturday\, October 18th\, 2025 \n12:00 – 8:00 PM (PST) \n\n\n\nIn Person and Online\nCost: $108 – 200\n\n	\n		\n		\n			\n		\n		\n			Meditation Intensive\n		\n		\n		\n		\n		Event Cost: \n$75 (Streaming)\n$108 (Senior / Student)\n$150 (Standard)\n$200 (Benefactor) \n\n		\n		\n		  \n		\n		\n		\n		Processing ... Join UsStripe Payments requires Javascript to be supported by the browser in order to operate.\n		\n	\n	\n\nHard Light @ Studio 108\n2360 Eastman\, Suite 108\nOxnard\, CA 93030
URL:https://hardlight.org/event/10-04-2025-mahasamadhi-intensive/
LOCATION:Hard Light Studio 108\, 2360 Eastman\, Suite 108\, Oxnard\, CA\, 93030\, United States
CATEGORIES:Intensives
ATTACH;FMTTYPE=image/jpeg:https://hardlight.org/wp-content/uploads/2022/10/Hollywood_Dog_01.jpg
END:VEVENT
BEGIN:VEVENT
DTSTART;TZID=America/Los_Angeles:20251016T193000
DTEND;TZID=America/Los_Angeles:20251016T210000
DTSTAMP:20260423T100730
CREATED:20250919T200809Z
LAST-MODIFIED:20250919T200931Z
UID:10000306-1760643000-1760648400@hardlight.org
SUMMARY:10/16/2025 - Weekly Program
DESCRIPTION:Conclusion of a multi-month teaching on the Infinite Consciousness / Infinite Unconsciousness. \n\n\n\nJoin via VIMEO \n\n\n	\n		\n		\n			\n		\n		\n			Weekly Meditation Program\n		\n		\n		\n		\n		The weekly program is held every Thursday from 7:30 – 9:00 PM (PST). The program includes Master Mark Griffin’s archived Dharma teachings and silent meditation practice. All are welcome to join!\n  \nFirst class free\nIn-person or online drop-in: $15-25 \n\n\n\n\n		\n		\n		  \n		\n		\n		\n		Processing ... Join UsStripe Payments requires Javascript to be supported by the browser in order to operate.
URL:https://hardlight.org/event/10-16-2025-weekly-program/
LOCATION:Hard Light Studio 108\, 2360 Eastman\, Suite 108\, Oxnard\, CA\, 93030\, United States
CATEGORIES:Weekly Meeting
ATTACH;FMTTYPE=image/webp:https://hardlight.org/wp-content/uploads/2025/09/Meher-and-Siddhas.webp
ORGANIZER;CN="Hard Light Center of Awakening":MAILTO:lightinfo@hardlight.org
END:VEVENT
BEGIN:VEVENT
DTSTART;TZID=America/Los_Angeles:20251002T193000
DTEND;TZID=America/Los_Angeles:20251002T210000
DTSTAMP:20260423T100730
CREATED:20250919T193251Z
LAST-MODIFIED:20250919T193819Z
UID:10000304-1759433400-1759438800@hardlight.org
SUMMARY:10/02/2025 - Weekly Program
DESCRIPTION:Puja Table\n\n\n\n\n\nPart 5 of a multi-month teaching on the Infinite Consciousness / Infinite Unconsciousness. \n\n\n\nJoin via VIMEO
URL:https://hardlight.org/event/part-5-of-a-multi-month-teaching-on-the-infinite-consciousness-infinite-unconsciousness/
LOCATION:Hard Light Studio 108\, 2360 Eastman\, Suite 108\, Oxnard\, CA\, 93030\, United States
CATEGORIES:Weekly Meeting
ATTACH;FMTTYPE=image/jpeg:https://hardlight.org/wp-content/uploads/2025/09/puja-table-flowers-muktananda-photo.jpg
ORGANIZER;CN="Hard Light Center of Awakening":MAILTO:lightinfo@hardlight.org
END:VEVENT
BEGIN:VEVENT
DTSTART;TZID=America/Los_Angeles:20250925T193000
DTEND;TZID=America/Los_Angeles:20250925T210000
DTSTAMP:20260423T100730
CREATED:20250901T021359Z
LAST-MODIFIED:20250903T230602Z
UID:10000300-1758828600-1758834000@hardlight.org
SUMMARY:09/25/2025 - Weekly Program
DESCRIPTION:Join via VIMEO\n\n	\n		\n		\n			\n		\n		\n			Weekly Meditation Program\n		\n		\n		\n		\n		The weekly program is held every Thursday from 7:30 – 9:00 PM (PST). The program includes Master Mark Griffin’s archived Dharma teachings and silent meditation practice. All are welcome to join!\n  \nFirst class free\nIn-person or online drop-in: $15-25 \n\n\n\n\n		\n		\n		  \n		\n		\n		\n		Processing ... Join UsStripe Payments requires Javascript to be supported by the browser in order to operate.\n		\n	\n	\n\n 
URL:https://hardlight.org/event/09-25-2025-weekly-program-2/
LOCATION:Hard Light Studio 108\, 2360 Eastman\, Suite 108\, Oxnard\, CA\, 93030\, United States
CATEGORIES:Weekly Meeting
ATTACH;FMTTYPE=image/jpeg:https://hardlight.org/wp-content/uploads/2022/10/Six_Session_Vajra_Guru__85829.1666990520.1280.1280.jpg
ORGANIZER;CN="Hard Light Center of Awakening":MAILTO:lightinfo@hardlight.org
END:VEVENT
BEGIN:VEVENT
DTSTART;TZID=America/Los_Angeles:20250918T193000
DTEND;TZID=America/Los_Angeles:20250918T210000
DTSTAMP:20260423T100730
CREATED:20250901T021159Z
LAST-MODIFIED:20250903T230721Z
UID:10000301-1758223800-1758229200@hardlight.org
SUMMARY:09/18/2025 - Weekly Program
DESCRIPTION:Join via VIMEO\n\n	\n		\n		\n			\n		\n		\n			Weekly Meditation Program\n		\n		\n		\n		\n		The weekly program is held every Thursday from 7:30 – 9:00 PM (PST). The program includes Master Mark Griffin’s archived Dharma teachings and silent meditation practice. All are welcome to join!\n  \nFirst class free\nIn-person or online drop-in: $15-25 \n\n\n\n\n		\n		\n		  \n		\n		\n		\n		Processing ... Join UsStripe Payments requires Javascript to be supported by the browser in order to operate.\n		\n	\n	\n\n 
URL:https://hardlight.org/event/09-18-2025-weekly-program-2/
LOCATION:Hard Light Studio 108\, 2360 Eastman\, Suite 108\, Oxnard\, CA\, 93030\, United States
CATEGORIES:Weekly Meeting
ATTACH;FMTTYPE=image/jpeg:https://hardlight.org/wp-content/uploads/2023/02/The-Universe.jpg
ORGANIZER;CN="Hard Light Center of Awakening":MAILTO:lightinfo@hardlight.org
END:VEVENT
BEGIN:VEVENT
DTSTART;TZID=America/Los_Angeles:20250911T193000
DTEND;TZID=America/Los_Angeles:20250911T210000
DTSTAMP:20260423T100730
CREATED:20250901T020910Z
LAST-MODIFIED:20250903T230811Z
UID:10000302-1757619000-1757624400@hardlight.org
SUMMARY:09/11/2025 - Weekly Program
DESCRIPTION:Join via VIMEO\n\n	\n		\n		\n			\n		\n		\n			Weekly Meditation Program\n		\n		\n		\n		\n		The weekly program is held every Thursday from 7:30 – 9:00 PM (PST). The program includes Master Mark Griffin’s archived Dharma teachings and silent meditation practice. All are welcome to join!\n  \nFirst class free\nIn-person or online drop-in: $15-25 \n\n\n\n\n		\n		\n		  \n		\n		\n		\n		Processing ... Join UsStripe Payments requires Javascript to be supported by the browser in order to operate.\n		\n	\n	\n\n 
URL:https://hardlight.org/event/09-11-2025-weekly-program-2/
LOCATION:Hard Light Studio 108\, 2360 Eastman\, Suite 108\, Oxnard\, CA\, 93030\, United States
CATEGORIES:Weekly Meeting
ATTACH;FMTTYPE=image/jpeg:https://hardlight.org/wp-content/uploads/2023/01/Dragon-scaled-1.jpg
ORGANIZER;CN="Hard Light Center of Awakening":MAILTO:lightinfo@hardlight.org
END:VEVENT
BEGIN:VEVENT
DTSTART;TZID=America/Los_Angeles:20250904T193000
DTEND;TZID=America/Los_Angeles:20250904T210000
DTSTAMP:20260423T100730
CREATED:20250829T161000Z
LAST-MODIFIED:20250903T230947Z
UID:10000303-1757014200-1757019600@hardlight.org
SUMMARY:09/04/2025 - Weekly Program
DESCRIPTION:Join via VIMEO\n\n	\n		\n		\n			\n		\n		\n			Weekly Meditation Program\n		\n		\n		\n		\n		The weekly program is held every Thursday from 7:30 – 9:00 PM (PST). The program includes Master Mark Griffin’s archived Dharma teachings and silent meditation practice. All are welcome to join!\n  \nFirst class free\nIn-person or online drop-in: $15-25 \n\n\n\n\n		\n		\n		  \n		\n		\n		\n		Processing ... Join UsStripe Payments requires Javascript to be supported by the browser in order to operate.
URL:https://hardlight.org/event/09-04-2025-weekly-program-2/
LOCATION:Hard Light Studio 108\, 2360 Eastman\, Suite 108\, Oxnard\, CA\, 93030\, United States
CATEGORIES:Weekly Meeting
ATTACH;FMTTYPE=image/webp:https://hardlight.org/wp-content/uploads/2025/08/puja-table-babbas-candles-shiva-1920x1280-1.webp
ORGANIZER;CN="Hard Light Center of Awakening":MAILTO:lightinfo@hardlight.org
END:VEVENT
END:VCALENDAR